BEGIN:VCALENDAR
VERSION:2.0
PRODID:-//Beyond Zero - ECPv6.15.13//NONSGML v1.0//EN
CALSCALE:GREGORIAN
METHOD:PUBLISH
X-WR-CALNAME:Beyond Zero
X-ORIGINAL-URL:https://www.beyondzero.or.ke
X-WR-CALDESC:Events for Beyond Zero
REFRESH-INTERVAL;VALUE=DURATION:PT1H
X-Robots-Tag:noindex
X-PUBLISHED-TTL:PT1H
BEGIN:VTIMEZONE
TZID:UTC
BEGIN:STANDARD
TZOFFSETFROM:+0000
TZOFFSETTO:+0000
TZNAME:UTC
DTSTART:20220101T000000
END:STANDARD
END:VTIMEZONE
BEGIN:VTIMEZONE
TZID:Africa/Nairobi
BEGIN:STANDARD
TZOFFSETFROM:+0300
TZOFFSETTO:+0300
TZNAME:EAT
DTSTART:20220101T000000
END:STANDARD
END:VTIMEZONE
BEGIN:VEVENT
DTSTART;TZID=UTC:20260115T000000
DTEND;TZID=UTC:20260116T235959
DTSTAMP:20260423T211308
CREATED:20260115T041816Z
LAST-MODIFIED:20260115T041816Z
UID:6704-1768435200-1768607999@www.beyondzero.or.ke
SUMMARY:FREE Breast & Cervical Cancer Screening: Kianjokoma Level 3 Health Centre (Kianjokoma Market)\, Embu County
DESCRIPTION:As part of an ongoing cervical cancer screening programme in Embu County\, Beyond Zero\, in partnership with the Department of Health\, Embu County\, will provide free breast and cervical cancer screening services during Cervical Cancer Awareness Month. \nJoin us between 8 AM and 4PM on the 15th & 16th of January 2026 and encourage the women in your life to get screened. \nEarly Detection Saves Lives!
URL:https://www.beyondzero.or.ke/event/free-breast-cervical-cancer-screening-kianjokoma-level-3-health-centre-kianjokoma-market-embu-county/
CATEGORIES:OUTREACHES
ATTACH;FMTTYPE=image/png:https://www.beyondzero.or.ke/wp-content/uploads/2026/01/Jan-2026-Free-Cervical-Cancer-Screening-Embu.png
END:VEVENT
BEGIN:VEVENT
DTSTART;TZID=UTC:20251211T080000
DTEND;TZID=UTC:20251211T170000
DTSTAMP:20260423T211308
CREATED:20251209T162954Z
LAST-MODIFIED:20251209T162954Z
UID:6674-1765440000-1765472400@www.beyondzero.or.ke
SUMMARY:Free Breast & Cervical Cancer Screening: Day Two
DESCRIPTION:The Christmas season gives you a chance to pause and protect your health. Join us for the final day of breast and cervical cancer screening in Runyenjes\, Embu County. \nEarly detection saves lives.
URL:https://www.beyondzero.or.ke/event/free-breast-cervical-cancer-screening-day-two/
CATEGORIES:OUTREACHES
ATTACH;FMTTYPE=image/png:https://www.beyondzero.or.ke/wp-content/uploads/2025/12/FB-Poster-Embu.png
END:VEVENT
BEGIN:VEVENT
DTSTART;TZID=UTC:20251210T080000
DTEND;TZID=UTC:20251210T170000
DTSTAMP:20260423T211308
CREATED:20251209T161737Z
LAST-MODIFIED:20251209T161737Z
UID:6670-1765353600-1765386000@www.beyondzero.or.ke
SUMMARY:Free Breast and Cervical Cancer Screening
DESCRIPTION:Beyond Zero and the Department of Health Embu County invite you to our final breast and cervical cancer screening outreach of 2025. This outreach strengthens early detection\, improves access to care\, and supports women to take charge of their health.
URL:https://www.beyondzero.or.ke/event/free-breast-and-cervical-cancer-screening/
CATEGORIES:OUTREACHES
ATTACH;FMTTYPE=image/png:https://www.beyondzero.or.ke/wp-content/uploads/2025/12/Embu-Website-Ready.png
END:VEVENT
BEGIN:VEVENT
DTSTART;TZID=UTC:20251007T080000
DTEND;TZID=UTC:20251008T160000
DTSTAMP:20260423T211308
CREATED:20250926T145909Z
LAST-MODIFIED:20250930T084752Z
UID:6431-1759824000-1759939200@www.beyondzero.or.ke
SUMMARY:Cervical Cancer Screening Outreach - Kanja Health Centre
DESCRIPTION:Free Breast and Cervical Cancer Screening \nJoin us at Kanja Health Centre on October 7 and 8\, 2025\, from 8:00 AM to 4:00 PM. \nEarly detection saves lives. Take advantage of this free service and prioritize your health.
URL:https://www.beyondzero.or.ke/event/cervical-cancer-screening-outreach-kanja-health-centre/
LOCATION:Kanja Market\, Kenya
CATEGORIES:OUTREACHES
ATTACH;FMTTYPE=image/png:https://www.beyondzero.or.ke/wp-content/uploads/2025/09/Embu-IG-Ready-1.png
END:VEVENT
BEGIN:VEVENT
DTSTART;VALUE=DATE:20230922
DTEND;VALUE=DATE:20230929
DTSTAMP:20260423T211308
CREATED:20230914T083308Z
LAST-MODIFIED:20230914T083437Z
UID:5316-1695340800-1695945599@www.beyondzero.or.ke
SUMMARY:Free Fistula Camp at Garissa County Referral Hospital
DESCRIPTION:
URL:https://www.beyondzero.or.ke/event/free-fistula-camp-at-garissa-county-referral-hospital/
LOCATION:Garissa County Referral\, Garissa\, Garissa\, Kenya
CATEGORIES:OUTREACHES
ATTACH;FMTTYPE=image/jpeg:https://www.beyondzero.or.ke/wp-content/uploads/2023/09/IMG-20230914-WA0003.jpg
END:VEVENT
BEGIN:VEVENT
DTSTART;VALUE=DATE:20230918
DTEND;VALUE=DATE:20230920
DTSTAMP:20260423T211308
CREATED:20230914T081119Z
LAST-MODIFIED:20230914T082705Z
UID:5307-1694995200-1695167999@www.beyondzero.or.ke
SUMMARY:Breast\, cervical and prostate cancer screening at Isinya Health Centre\, Kajiado East Sub County
DESCRIPTION:
URL:https://www.beyondzero.or.ke/event/breast-cervical-and-prostate-cancer-screening-at-isinya-health-centre-kajiado-east-sub-county/
LOCATION:Isinya Health Centre\, Kajiado\, Kenya
CATEGORIES:OUTREACHES
ATTACH;FMTTYPE=image/jpeg:https://www.beyondzero.or.ke/wp-content/uploads/2023/09/IMG-20230905-WA0005.jpg
END:VEVENT
END:VCALENDAR