BEGIN:VCALENDAR
VERSION:2.0
PRODID:-//Beyond Zero - ECPv6.15.13//NONSGML v1.0//EN
CALSCALE:GREGORIAN
METHOD:PUBLISH
X-ORIGINAL-URL:https://www.beyondzero.or.ke
X-WR-CALDESC:Events for Beyond Zero
REFRESH-INTERVAL;VALUE=DURATION:PT1H
X-Robots-Tag:noindex
X-PUBLISHED-TTL:PT1H
BEGIN:VTIMEZONE
TZID:UTC
BEGIN:STANDARD
TZOFFSETFROM:+0000
TZOFFSETTO:+0000
TZNAME:UTC
DTSTART:20250101T000000
END:STANDARD
END:VTIMEZONE
BEGIN:VEVENT
DTSTART;TZID=UTC:20260115T000000
DTEND;TZID=UTC:20260116T235959
DTSTAMP:20260423T205119
CREATED:20260115T041816Z
LAST-MODIFIED:20260115T041816Z
UID:6704-1768435200-1768607999@www.beyondzero.or.ke
SUMMARY:FREE Breast & Cervical Cancer Screening: Kianjokoma Level 3 Health Centre (Kianjokoma Market)\, Embu County
DESCRIPTION:As part of an ongoing cervical cancer screening programme in Embu County\, Beyond Zero\, in partnership with the Department of Health\, Embu County\, will provide free breast and cervical cancer screening services during Cervical Cancer Awareness Month. \nJoin us between 8 AM and 4PM on the 15th & 16th of January 2026 and encourage the women in your life to get screened. \nEarly Detection Saves Lives!
URL:https://www.beyondzero.or.ke/event/free-breast-cervical-cancer-screening-kianjokoma-level-3-health-centre-kianjokoma-market-embu-county/
CATEGORIES:OUTREACHES
ATTACH;FMTTYPE=image/png:https://www.beyondzero.or.ke/wp-content/uploads/2026/01/Jan-2026-Free-Cervical-Cancer-Screening-Embu.png
END:VEVENT
BEGIN:VEVENT
DTSTART;TZID=UTC:20260119T000000
DTEND;TZID=UTC:20260123T235959
DTSTAMP:20260423T205119
CREATED:20260119T093245Z
LAST-MODIFIED:20260119T093245Z
UID:6711-1768780800-1769212799@www.beyondzero.or.ke
SUMMARY:FREE CANCER SCREENING – ISIOLO COUNTY
DESCRIPTION:The National Cancer Institute of Kenya\, in collaboration with Mobilab Medical Innovatives\, Inc\, Beyond Zero\, and the County Government of Isiolo\, will be conducting FREE cancer screening\, awareness\, and education services in Isiolo County.\n\n\n\nVenue: Isiolo County Teaching and Referral Hospital\nDates: Monday 19th – Friday 23rd January 2026\nTime: 8:00 AM – 5:00 PM\n\n\n\nServices available:\n1. Cervical cancer screening\n2. Breast cancer screening\n3. Prostate cancer screening\n\n\n\nThis initiative is part of our collective effort to unite for a cancer-free future by promoting early detection\, prevention\, and timely care.\n\n\n\nEarly screening saves lives. Come get screened and encourage others to do the same.
URL:https://www.beyondzero.or.ke/event/free-cancer-screening-isiolo-county/
LOCATION:Isiolo County Teaching and Referral Hospital\, Isiolo County Teaching and Referral Hospital\, Isiolo\, Kenya
CATEGORIES:Free Screening
ATTACH;FMTTYPE=image/jpeg:https://www.beyondzero.or.ke/wp-content/uploads/2026/01/G-ypgKTW4AA4G9U.jpg
END:VEVENT
BEGIN:VEVENT
DTSTART;TZID=UTC:20260126T000000
DTEND;TZID=UTC:20260130T235959
DTSTAMP:20260423T205119
CREATED:20260126T144154Z
LAST-MODIFIED:20260126T144154Z
UID:6717-1769385600-1769817599@www.beyondzero.or.ke
SUMMARY:Free Cervical Cancer Screening & Awareness – Kirinyaga County
DESCRIPTION:Beyond Zero\, in partnership with the National Cancer Institute of Kenya and county stakeholders\, will support the delivery of free cervical cancer screening\, awareness\, and prevention services in Kirinyaga County. \nThis initiative is part of ongoing national and county efforts to bring lifesaving services closer to communities and to promote early detection as a key pillar in the fight against cervical cancer. \nDates: 26–30 January 2026Venue: Ngiriambu Primary School\, Kirinyaga County \nEarly detection saves lives.
URL:https://www.beyondzero.or.ke/event/free-cervical-cancer-screening-awareness-kirinyaga-county/
LOCATION:Ngiriambu Primary School\, Kirinyaga County\, Kenya
CATEGORIES:Free Screening
ATTACH;FMTTYPE=image/jpeg:https://www.beyondzero.or.ke/wp-content/uploads/2026/01/619757157_1321912956641373_6939104712739692167_n.jpg
END:VEVENT
BEGIN:VEVENT
DTSTART;TZID=UTC:20260131T000000
DTEND;TZID=UTC:20260204T235959
DTSTAMP:20260423T205119
CREATED:20260129T114100Z
LAST-MODIFIED:20260129T114100Z
UID:6734-1769817600-1770249599@www.beyondzero.or.ke
SUMMARY:Free Comprehensive Cancer Outreach: West Pokot County
DESCRIPTION:Beyond Zero\, in partnership with the National Cancer Institute of Kenya and county stakeholders\, will be conducting a comprehensive cancer outreach in West Pokot County as part of activities to mark Cervical Cancer Awareness Month. \nVenue: Kapenguria County Referral HospitalDates: 31 January – 4 February 2026 \nDuring the outreach\, community members will access free services\, including: \n\nCervical cancer screening\nBreast cancer screening\nProstate cancer screening\nCancer education and awareness
URL:https://www.beyondzero.or.ke/event/free-comprehensive-cancer-outreach-west-pokot-county/
LOCATION:Kapenguria County Referral Hospital\, West Pokot KE\, Makutano - Kapenguria Rd\, Kapenguria\, West Pokot County\, Kenya
CATEGORIES:Free Screening
ATTACH;FMTTYPE=image/jpeg:https://www.beyondzero.or.ke/wp-content/uploads/2026/01/619828199_1327023849463617_623318235398410013_n.jpg
END:VEVENT
END:VCALENDAR