BEGIN:VCALENDAR
VERSION:2.0
PRODID:-//Beyond Zero - ECPv6.15.13//NONSGML v1.0//EN
CALSCALE:GREGORIAN
METHOD:PUBLISH
X-WR-CALNAME:Beyond Zero
X-ORIGINAL-URL:https://www.beyondzero.or.ke
X-WR-CALDESC:Events for Beyond Zero
REFRESH-INTERVAL;VALUE=DURATION:PT1H
X-Robots-Tag:noindex
X-PUBLISHED-TTL:PT1H
BEGIN:VTIMEZONE
TZID:UTC
BEGIN:STANDARD
TZOFFSETFROM:+0000
TZOFFSETTO:+0000
TZNAME:UTC
DTSTART:20250101T000000
END:STANDARD
END:VTIMEZONE
BEGIN:VEVENT
DTSTART;TZID=UTC:20260131T000000
DTEND;TZID=UTC:20260204T235959
DTSTAMP:20260423T222925
CREATED:20260129T114100Z
LAST-MODIFIED:20260129T114100Z
UID:6734-1769817600-1770249599@www.beyondzero.or.ke
SUMMARY:Free Comprehensive Cancer Outreach: West Pokot County
DESCRIPTION:Beyond Zero\, in partnership with the National Cancer Institute of Kenya and county stakeholders\, will be conducting a comprehensive cancer outreach in West Pokot County as part of activities to mark Cervical Cancer Awareness Month. \nVenue: Kapenguria County Referral HospitalDates: 31 January – 4 February 2026 \nDuring the outreach\, community members will access free services\, including: \n\nCervical cancer screening\nBreast cancer screening\nProstate cancer screening\nCancer education and awareness
URL:https://www.beyondzero.or.ke/event/free-comprehensive-cancer-outreach-west-pokot-county/
LOCATION:Kapenguria County Referral Hospital\, West Pokot KE\, Makutano - Kapenguria Rd\, Kapenguria\, West Pokot County\, Kenya
CATEGORIES:Free Screening
ATTACH;FMTTYPE=image/jpeg:https://www.beyondzero.or.ke/wp-content/uploads/2026/01/619828199_1327023849463617_623318235398410013_n.jpg
END:VEVENT
BEGIN:VEVENT
DTSTART;TZID=UTC:20260219T000000
DTEND;TZID=UTC:20260220T235959
DTSTAMP:20260423T222925
CREATED:20260216T133932Z
LAST-MODIFIED:20260216T133932Z
UID:6752-1771459200-1771631999@www.beyondzero.or.ke
SUMMARY:Free Breast & Cervical Cancer Screening – Kigumo Health Centre & Market
DESCRIPTION:Date: 19–20 February 2026Time: 8:00 AM – 4:00 PMVenue: Kigumo Health Centre (Kigumo Market)\, Embu County \nAs part of an ongoing cervical cancer screening programme in Embu County\, Beyond Zero\, in partnership with the Department of Health\, Embu County\, will provide free breast and cervical cancer screening services. Together\, we are working to ensure women have access to timely screening and preventive care.
URL:https://www.beyondzero.or.ke/event/free-breast-cervical-cancer-screening-kigumo-health-centre-market/
LOCATION:Kigumo Health Centre\, Kaharati-kangari Rd\, Embu County\, Embu County\, Kenya
CATEGORIES:Free Screening
ATTACH;FMTTYPE=image/png:https://www.beyondzero.or.ke/wp-content/uploads/2026/02/Embu-Website-Ready.png
END:VEVENT
END:VCALENDAR